BEGIN:VCALENDAR
VERSION:2.0
PRODID:-//wp-events-plugin.com//7.2.3.1//EN
TZID:America/Phoenix
X-WR-TIMEZONE:America/Phoenix
BEGIN:VEVENT
UID:134@aapinalcounty.org
DTSTART;TZID=America/Phoenix:20260731T000000
DTEND;TZID=America/Phoenix:20260802T000000
DTSTAMP:20260414T170127Z
URL:https://aapinalcounty.org/events/state-convention/
SUMMARY:State Convention
DESCRIPTION:Receipt_2026-04-14_094851
END:VEVENT
BEGIN:VTIMEZONE
TZID:America/Phoenix
X-LIC-LOCATION:America/Phoenix
BEGIN:STANDARD
DTSTART:20250731T000000
TZOFFSETFROM:-0700
TZOFFSETTO:-0700
TZNAME:MST
END:STANDARD
END:VTIMEZONE
END:VCALENDAR