BEGIN:VCALENDAR
VERSION:2.0
PRODID:-//wp-events-plugin.com//7.2.3.1//EN
TZID:America/Phoenix
X-WR-TIMEZONE:America/Phoenix
BEGIN:VEVENT
UID:125@aapinalcounty.org
DTSTART;TZID=America/Phoenix:20260530T070000
DTEND;TZID=America/Phoenix:20260530T170000
DTSTAMP:20260226T122844Z
URL:https://aapinalcounty.org/events/post-conference-assembly/
SUMMARY:Post Conference Assembly
DESCRIPTION:
END:VEVENT
BEGIN:VTIMEZONE
TZID:America/Phoenix
X-LIC-LOCATION:America/Phoenix
BEGIN:STANDARD
DTSTART:20250530T070000
TZOFFSETFROM:-0700
TZOFFSETTO:-0700
TZNAME:MST
END:STANDARD
END:VTIMEZONE
END:VCALENDAR