BEGIN:VCALENDAR
VERSION:2.0
PRODID:-//wp-events-plugin.com//7.2.3.1//EN
TZID:America/Phoenix
X-WR-TIMEZONE:America/Phoenix
BEGIN:VEVENT
UID:122@aapinalcounty.org
DTSTART;TZID=America/Phoenix:20260314T000000
DTEND;TZID=America/Phoenix:20260314T000000
DTSTAMP:20260226T121558Z
URL:https://aapinalcounty.org/events/phoenix-fiesta-de-three-legacies/
SUMMARY:Phoenix Fiesta de Three Legacies
DESCRIPTION:Document_2026-02-26_051014
END:VEVENT
BEGIN:VTIMEZONE
TZID:America/Phoenix
X-LIC-LOCATION:America/Phoenix
BEGIN:STANDARD
DTSTART:20250314T000000
TZOFFSETFROM:-0700
TZOFFSETTO:-0700
TZNAME:MST
END:STANDARD
END:VTIMEZONE
END:VCALENDAR