BEGIN:VCALENDAR
VERSION:2.0
PRODID:-//wp-events-plugin.com//7.2.3.1//EN
TZID:America/Phoenix
X-WR-TIMEZONE:America/Phoenix
BEGIN:VEVENT
UID:123@aapinalcounty.org
DTSTART;TZID=America/Phoenix:20260410T160000
DTEND;TZID=America/Phoenix:20260412T234500
DTSTAMP:20260226T122141Z
URL:https://aapinalcounty.org/events/pca-area03/
SUMMARY:PCA Area03
DESCRIPTION:Check out Area03.org for Pre Conference information.
END:VEVENT
BEGIN:VTIMEZONE
TZID:America/Phoenix
X-LIC-LOCATION:America/Phoenix
BEGIN:STANDARD
DTSTART:20250410T160000
TZOFFSETFROM:-0700
TZOFFSETTO:-0700
TZNAME:MST
END:STANDARD
END:VTIMEZONE
END:VCALENDAR