BEGIN:VCALENDAR
VERSION:2.0
PRODID:-//wp-events-plugin.com//7.2.3.1//EN
TZID:America/Phoenix
X-WR-TIMEZONE:America/Phoenix
BEGIN:VEVENT
UID:131@aapinalcounty.org
DTSTART;TZID=America/Phoenix:20260613T090000
DTEND;TZID=America/Phoenix:20260613T150000
DTSTAMP:20260319T015114Z
URL:https://aapinalcounty.org/events/founders-day-2/
SUMMARY:Founders Day
DESCRIPTION:
LOCATION:Camelback Bible Church\, 3900 E Sanford\, Paradise Valley\, Arizon
 a\, United States
GEO:33.661065;-112.023194
X-APPLE-STRUCTURED-LOCATION;VALUE=URI;X-ADDRESS=3900 E Sanford\, Paradise V
 alley\, Arizona\, United States;X-APPLE-RADIUS=100;X-TITLE=Camelback Bible
  Church:geo:33.661065,-112.023194
END:VEVENT
BEGIN:VTIMEZONE
TZID:America/Phoenix
X-LIC-LOCATION:America/Phoenix
BEGIN:STANDARD
DTSTART:20250613T090000
TZOFFSETFROM:-0700
TZOFFSETTO:-0700
TZNAME:MST
END:STANDARD
END:VTIMEZONE
END:VCALENDAR