BEGIN:VCALENDAR
VERSION:2.0
PRODID:-//wp-events-plugin.com//7.2.3.1//EN
TZID:America/Phoenix
X-WR-TIMEZONE:America/Phoenix
BEGIN:VEVENT
UID:121@aapinalcounty.org
DTSTART;TZID=America/Phoenix:20251129T110000
DTEND;TZID=America/Phoenix:20251129T133000
DTSTAMP:20251112T034723Z
URL:https://aapinalcounty.org/events/florence-group-thanksgiving-pot-luck/
SUMMARY:Florence Group Thanksgiving Pot Luck
DESCRIPTION:[caption id="attachment_1957" align="alignnone" width="218"] Fl
 orence Group Pot Luck[/caption]
END:VEVENT
BEGIN:VTIMEZONE
TZID:America/Phoenix
X-LIC-LOCATION:America/Phoenix
BEGIN:STANDARD
DTSTART:20241129T110000
TZOFFSETFROM:-0700
TZOFFSETTO:-0700
TZNAME:MST
END:STANDARD
END:VTIMEZONE
END:VCALENDAR