BEGIN:VCALENDAR
VERSION:2.0
PRODID:-//wp-events-plugin.com//7.2.3.1//EN
TZID:America/Phoenix
X-WR-TIMEZONE:America/Phoenix
BEGIN:VEVENT
UID:124@aapinalcounty.org
DTSTART;TZID=America/Phoenix:20260414T190000
DTEND;TZID=America/Phoenix:20260414T200000
DTSTAMP:20260226T122431Z
URL:https://aapinalcounty.org/events/district-meeting/
SUMMARY:District Meeting
DESCRIPTION:7:00 PM
END:VEVENT
BEGIN:VTIMEZONE
TZID:America/Phoenix
X-LIC-LOCATION:America/Phoenix
BEGIN:STANDARD
DTSTART:20250414T190000
TZOFFSETFROM:-0700
TZOFFSETTO:-0700
TZNAME:MST
END:STANDARD
END:VTIMEZONE
END:VCALENDAR