BEGIN:VCALENDAR
VERSION:2.0
PRODID:-//wp-events-plugin.com//7.2.3.1//EN
TZID:America/Phoenix
X-WR-TIMEZONE:America/Phoenix
BEGIN:VEVENT
UID:82@aapinalcounty.org
DTSTART;TZID=America/Phoenix:20240611T190000
DTEND;TZID=America/Phoenix:20240611T200000
DTSTAMP:20231130T213806Z
URL:https://aapinalcounty.org/events/district-12-121-monthly-business-meet
 ing-19/
SUMMARY:District 12-121 Monthly Business Meeting
DESCRIPTION:
LOCATION:Miracle House\, 204 E 3rd Street\, Casa Grande\, AZ\, 85122\, Unit
 ed States
GEO:32.87751;-111.75193
X-APPLE-STRUCTURED-LOCATION;VALUE=URI;X-ADDRESS=204 E 3rd Street\, Casa Gra
 nde\, AZ\, 85122\, United States;X-APPLE-RADIUS=100;X-TITLE=Miracle House:
 geo:32.87751,-111.75193
END:VEVENT
BEGIN:VTIMEZONE
TZID:America/Phoenix
X-LIC-LOCATION:America/Phoenix
BEGIN:STANDARD
DTSTART:20230612T190000
TZOFFSETFROM:-0700
TZOFFSETTO:-0700
TZNAME:MST
END:STANDARD
END:VTIMEZONE
END:VCALENDAR