BEGIN:VCALENDAR
VERSION:2.0
PRODID:-//wp-events-plugin.com//7.2.3.1//EN
TZID:America/Phoenix
X-WR-TIMEZONE:America/Phoenix
BEGIN:VEVENT
UID:120@aapinalcounty.org
DTSTART;TZID=America/Phoenix:20251109T110000
DTEND;TZID=America/Phoenix:20251109T140000
DTSTAMP:20251106T152026Z
URL:https://aapinalcounty.org/events/district-12-121-fall-cookout-picnic/
SUMMARY:District 12-121 Fall Cookout / Picnic
DESCRIPTION:
ATTACH;FMTTYPE=image/jpeg:https://aapinalcounty.org/wp-content/uploads/202
 4/09/Fall-Cookout-Flyer.jpg
LOCATION:Dave White Park\, Ramada D\, 2121 N Thornton Rd\, Casa Grande\, Ar
 izona\, 85122\, United States
GEO:32.912879;-111.774136
X-APPLE-STRUCTURED-LOCATION;VALUE=URI;X-ADDRESS=2121 N Thornton Rd\, Casa G
 rande\, Arizona\, 85122\, United States;X-APPLE-RADIUS=100;X-TITLE=Dave Wh
 ite Park\, Ramada D:geo:32.912879,-111.774136
END:VEVENT
BEGIN:VTIMEZONE
TZID:America/Phoenix
X-LIC-LOCATION:America/Phoenix
BEGIN:STANDARD
DTSTART:20241109T110000
TZOFFSETFROM:-0700
TZOFFSETTO:-0700
TZNAME:MST
END:STANDARD
END:VTIMEZONE
END:VCALENDAR