BEGIN:VCALENDAR
VERSION:2.0
PRODID:-//wp-events-plugin.com//7.2.3.1//EN
TZID:America/Phoenix
X-WR-TIMEZONE:America/Phoenix
BEGIN:VEVENT
UID:132@aapinalcounty.org
DTSTART;TZID=America/Phoenix:20260807T000000
DTEND;TZID=America/Phoenix:20260809T000000
DTSTAMP:20260414T165644Z
URL:https://aapinalcounty.org/events/ascypaa/
SUMMARY:ASCYPAA
DESCRIPTION:
END:VEVENT
BEGIN:VTIMEZONE
TZID:America/Phoenix
X-LIC-LOCATION:America/Phoenix
BEGIN:STANDARD
DTSTART:20250807T000000
TZOFFSETFROM:-0700
TZOFFSETTO:-0700
TZNAME:MST
END:STANDARD
END:VTIMEZONE
END:VCALENDAR