BEGIN:VCALENDAR
VERSION:2.0
PRODID:-//wp-events-plugin.com//7.2.3.1//EN
TZID:America/Phoenix
X-WR-TIMEZONE:America/Phoenix
BEGIN:VEVENT
UID:111@aapinalcounty.org
DTSTART;TZID=America/Phoenix:20241027T120000
DTEND;TZID=America/Phoenix:20241027T160000
DTSTAMP:20240919T005553Z
URL:https://aapinalcounty.org/events/2024-fall-family-cookout-potluck-dist
 rict-12-121/
SUMMARY:2024 Fall Family Cookout & Potluck - District 12-121
DESCRIPTION:Fall Cookout Flyer\n\nDave Whie Park\, Ramada "A"\n\nFor info o
 r to help\, please call David C at (925) 787-5535\n\nBring a Dish to Share
  - All AA Members and Family Invited
ATTACH;FMTTYPE=image/jpeg:https://aapinalcounty.org/wp-content/uploads/202
 4/09/Fall-Cookout-Flyer.jpg
LOCATION:Dave White Park\, Ramada "A"\, 2121 N Thorton Rd\, Casa Grande\, A
 Z\, 85122\, United States
GEO:32.912879;-111.774136
X-APPLE-STRUCTURED-LOCATION;VALUE=URI;X-ADDRESS=2121 N Thorton Rd\, Casa Gr
 ande\, AZ\, 85122\, United States;X-APPLE-RADIUS=100;X-TITLE=Dave White Pa
 rk\, Ramada \"A\":geo:32.912879,-111.774136
END:VEVENT
BEGIN:VTIMEZONE
TZID:America/Phoenix
X-LIC-LOCATION:America/Phoenix
BEGIN:STANDARD
DTSTART:20231028T120000
TZOFFSETFROM:-0700
TZOFFSETTO:-0700
TZNAME:MST
END:STANDARD
END:VTIMEZONE
END:VCALENDAR