BEGIN:VCALENDAR
VERSION:2.0
PRODID:-//wp-events-plugin.com//7.2.3.1//EN
TZID:America/Phoenix
X-WR-TIMEZONE:America/Phoenix
BEGIN:VEVENT
UID:110@aapinalcounty.org
DTSTART;TZID=America/Phoenix:20240823T120000
DTEND;TZID=America/Phoenix:20240825T170000
DTSTAMP:20240724T164646Z
URL:https://aapinalcounty.org/events/2024-arizona-state-convention/
SUMMARY:2024 Arizona State Convention
DESCRIPTION:To get the flyer\, click on More Info then click on the highlig
 hted name:  State Convention Final\n\nMarathon meetings\, speaker meetings
 \, Spanish meetings\, panels\, entertainment\, History / Archives\, Banque
 t\, Al-Anon Participation
ATTACH;FMTTYPE=image/jpeg:https://aapinalcounty.org/wp-content/uploads/202
 4/07/State-Convention-Final.jpg
LOCATION:Casino Del Sol\, 5655 W Valencia Rd\, Tucson\, AZ\, 85753\, Southw
 est\, United States
GEO:32.131835;-111.086978
X-APPLE-STRUCTURED-LOCATION;VALUE=URI;X-ADDRESS=5655 W Valencia Rd\, Tucson
 \, AZ\, 85753\, Southwest\, United States;X-APPLE-RADIUS=100;X-TITLE=Casin
 o Del Sol:geo:32.131835,-111.086978
END:VEVENT
BEGIN:VTIMEZONE
TZID:America/Phoenix
X-LIC-LOCATION:America/Phoenix
BEGIN:STANDARD
DTSTART:20230824T120000
TZOFFSETFROM:-0700
TZOFFSETTO:-0700
TZNAME:MST
END:STANDARD
END:VTIMEZONE
END:VCALENDAR